BEGIN:VCALENDAR
VERSION:2.0
PRODID:-//Kindertagesstätte Heßheim - ECPv6.15.20//NONSGML v1.0//EN
CALSCALE:GREGORIAN
METHOD:PUBLISH
X-WR-CALNAME:Kindertagesstätte Heßheim
X-ORIGINAL-URL:https://kita.hessheim.de
X-WR-CALDESC:Veranstaltungen für Kindertagesstätte Heßheim
REFRESH-INTERVAL;VALUE=DURATION:PT1H
X-Robots-Tag:noindex
X-PUBLISHED-TTL:PT1H
BEGIN:VTIMEZONE
TZID:Europe/Berlin
BEGIN:DAYLIGHT
TZOFFSETFROM:+0100
TZOFFSETTO:+0200
TZNAME:CEST
DTSTART:20230326T010000
END:DAYLIGHT
BEGIN:STANDARD
TZOFFSETFROM:+0200
TZOFFSETTO:+0100
TZNAME:CET
DTSTART:20231029T010000
END:STANDARD
BEGIN:DAYLIGHT
TZOFFSETFROM:+0100
TZOFFSETTO:+0200
TZNAME:CEST
DTSTART:20240331T010000
END:DAYLIGHT
BEGIN:STANDARD
TZOFFSETFROM:+0200
TZOFFSETTO:+0100
TZNAME:CET
DTSTART:20241027T010000
END:STANDARD
BEGIN:DAYLIGHT
TZOFFSETFROM:+0100
TZOFFSETTO:+0200
TZNAME:CEST
DTSTART:20250330T010000
END:DAYLIGHT
BEGIN:STANDARD
TZOFFSETFROM:+0200
TZOFFSETTO:+0100
TZNAME:CET
DTSTART:20251026T010000
END:STANDARD
END:VTIMEZONE
BEGIN:VEVENT
DTSTART;TZID=Europe/Berlin:20240619T000000
DTEND;TZID=Europe/Berlin:20240621T235959
DTSTAMP:20260421T064829
CREATED:20240314T143953Z
LAST-MODIFIED:20240314T143953Z
UID:168-1718755200-1719014399@kita.hessheim.de
SUMMARY:Schulanfängerfreizeit in Hochspeyer
DESCRIPTION:
URL:https://kita.hessheim.de/event/schulanfaengerfreizeit-in-hochspeyer/
LOCATION:Ausflug
END:VEVENT
BEGIN:VEVENT
DTSTART;TZID=Europe/Berlin:20240625T000000
DTEND;TZID=Europe/Berlin:20240625T235959
DTSTAMP:20260421T064829
CREATED:20240314T144035Z
LAST-MODIFIED:20240314T144035Z
UID:170-1719273600-1719359999@kita.hessheim.de
SUMMARY:Wasserspielplatz Deidesheim „Bären“
DESCRIPTION:
URL:https://kita.hessheim.de/event/wasserspielplatz-deidesheim-baeren/
LOCATION:Ausflug
END:VEVENT
END:VCALENDAR