BEGIN:VCALENDAR
VERSION:2.0
PRODID:-//Kindertagesstätte Heßheim - ECPv6.15.20//NONSGML v1.0//EN
CALSCALE:GREGORIAN
METHOD:PUBLISH
X-ORIGINAL-URL:https://kita.hessheim.de
X-WR-CALDESC:Veranstaltungen für Kindertagesstätte Heßheim
REFRESH-INTERVAL;VALUE=DURATION:PT1H
X-Robots-Tag:noindex
X-PUBLISHED-TTL:PT1H
BEGIN:VTIMEZONE
TZID:Europe/Berlin
BEGIN:DAYLIGHT
TZOFFSETFROM:+0100
TZOFFSETTO:+0200
TZNAME:CEST
DTSTART:20230326T010000
END:DAYLIGHT
BEGIN:STANDARD
TZOFFSETFROM:+0200
TZOFFSETTO:+0100
TZNAME:CET
DTSTART:20231029T010000
END:STANDARD
BEGIN:DAYLIGHT
TZOFFSETFROM:+0100
TZOFFSETTO:+0200
TZNAME:CEST
DTSTART:20240331T010000
END:DAYLIGHT
BEGIN:STANDARD
TZOFFSETFROM:+0200
TZOFFSETTO:+0100
TZNAME:CET
DTSTART:20241027T010000
END:STANDARD
BEGIN:DAYLIGHT
TZOFFSETFROM:+0100
TZOFFSETTO:+0200
TZNAME:CEST
DTSTART:20250330T010000
END:DAYLIGHT
BEGIN:STANDARD
TZOFFSETFROM:+0200
TZOFFSETTO:+0100
TZNAME:CET
DTSTART:20251026T010000
END:STANDARD
END:VTIMEZONE
BEGIN:VEVENT
DTSTART;TZID=Europe/Berlin:20240418T000000
DTEND;TZID=Europe/Berlin:20240418T235959
DTSTAMP:20260421T113346
CREATED:20240314T142406Z
LAST-MODIFIED:20240314T142406Z
UID:151-1713398400-1713484799@kita.hessheim.de
SUMMARY:Krankenhausbesuch Frankenthal Vorschulkinder der „Igel-Hasen- und  Raupengruppe“
DESCRIPTION:
URL:https://kita.hessheim.de/event/krankenhausbesuch-frankenthal-vorschulkinder-der-igel-hasen-und-raupengruppe/
LOCATION:Ausflug
END:VEVENT
END:VCALENDAR